BEGIN:VCALENDAR
PRODID:-//eluceo/ical//2.0/EN
VERSION:2.0
CALSCALE:GREGORIAN
BEGIN:VEVENT
UID:833c266a96e98625bdac15e9741332e7
DTSTAMP:20260421T192620Z
SUMMARY:Konzert &quot\;mol-do-mol-dört&quot\;
DESCRIPTION:&lt\;p&gt\;Frauenchor &quot\;&lt\;b&gt\;L&#039\;heure du choeur
 &lt\;/b&gt\;&quot\;&lt\;/p&gt\;&lt\;p&gt\;Saxophon: Thekla und Philipp Mic
 hel&lt\;/p&gt\;
DTSTART;VALUE=DATE:20260510
LOCATION:Kirche Rothenfluh
ORGANIZER:mailto:sekretariat@schafmatt-wisenberg.ch
END:VEVENT
END:VCALENDAR
